Package: RProtoBufLib Version: 2.13.0 Command: /home/hpages/bbs-3.18-bioc/R/bin/R CMD check --install=check:RProtoBufLib.install-out.txt --library=/home/hpages/bbs-3.18-bioc-testing/Rlibs --timings RProtoBufLib_2.13.0.tar.gz StartedAt: 2023-06-01 13:21:49 -0700 (Thu, 01 Jun 2023) EndedAt: 2023-06-01 13:22:07 -0700 (Thu, 01 Jun 2023) EllapsedTime: 18.0 seconds RetCode: 0 Status: WARNINGS CheckDir: RProtoBufLib.Rcheck Warnings: 2