Package: Rgraphviz Version: 2.46.0 Command: /home/hpages/bbs-3.18-bioc-R41/R/bin/R CMD build --keep-empty-dirs --no-resave-data Rgraphviz StartedAt: 2024-03-08 15:48:08 -0500 (Fri, 08 Mar 2024) EndedAt: 2024-03-08 15:49:53 -0500 (Fri, 08 Mar 2024) EllapsedTime: 104.9 seconds RetCode: 0 Status: OK PackageFile: Rgraphviz_2.46.0.tar.gz PackageFileSize: 7.138 MiB