Package: Rhtslib Version: 2.3.0 Command: /home/biocbuild/bbs-3.18-bioc/R/bin/Rscript -e "BiocCheck::BiocCheck('Rhtslib_2.3.0.tar.gz')" StartedAt: 2023-10-24 10:47:59 -0400 (Tue, 24 Oct 2023) EndedAt: 2023-10-24 10:49:21 -0400 (Tue, 24 Oct 2023) EllapsedTime: 82.7 seconds RetCode: None Status: ERROR Warnings: 0