Package: Rhtslib Version: 2.4.1 Command: /home/hpages/bbs-3.18-bioc-R41/R/bin/R CMD build --keep-empty-dirs --no-resave-data Rhtslib StartedAt: 2024-03-08 15:48:52 -0500 (Fri, 08 Mar 2024) EndedAt: 2024-03-08 15:50:24 -0500 (Fri, 08 Mar 2024) EllapsedTime: 91.6 seconds RetCode: 0 Status: OK PackageFile: Rhtslib_2.4.1.tar.gz PackageFileSize: 4.369 MiB