Package: Rhtslib Version: 2.4.1 Command: /home/hpages/bbs-3.18-bioc-R41/R/bin/R CMD check --install=check:Rhtslib.install-out.txt --library=/home/hpages/bbs-3.18-bioc-R41/R/site-library --timings Rhtslib_2.4.1.tar.gz StartedAt: 2024-03-08 16:14:23 -0500 (Fri, 08 Mar 2024) EndedAt: 2024-03-08 16:14:41 -0500 (Fri, 08 Mar 2024) EllapsedTime: 18.6 seconds RetCode: 0 Status: OK CheckDir: Rhtslib.Rcheck Warnings: 0