Package: Rhtslib Version: 2.4.1 Command: /home/hpages/bbs-3.18-bioc-R41/R/bin/R CMD INSTALL Rhtslib StartedAt: 2024-03-08 15:28:25 -0500 (Fri, 08 Mar 2024) EndedAt: 2024-03-08 15:29:38 -0500 (Fri, 08 Mar 2024) EllapsedTime: 73.8 seconds RetCode: 0 Status: OK