Package: Rhtslib Version: 2.3.0 Command: /home/hpages/bbs-3.18-bioc/R/bin/R CMD INSTALL Rhtslib StartedAt: 2023-06-01 12:19:11 -0700 (Thu, 01 Jun 2023) EndedAt: 2023-06-01 12:21:09 -0700 (Thu, 01 Jun 2023) EllapsedTime: 118.1 seconds RetCode: 0 Status: OK