Package: SPIA Version: 2.54.0 Command: /home/hpages/bbs-3.18-bioc-R41/R/bin/R CMD build --keep-empty-dirs --no-resave-data SPIA StartedAt: 2024-03-08 15:51:29 -0500 (Fri, 08 Mar 2024) EndedAt: 2024-03-08 15:56:42 -0500 (Fri, 08 Mar 2024) EllapsedTime: 313.1 seconds RetCode: 0 Status: OK PackageFile: SPIA_2.54.0.tar.gz PackageFileSize: 2.485 MiB