Package: SparseArray Version: 1.2.4 Command: /home/hpages/bbs-3.18-bioc-R41/R/bin/R CMD check --install=check:SparseArray.install-out.txt --library=/home/hpages/bbs-3.18-bioc-R41/R/site-library --timings SparseArray_1.2.4.tar.gz StartedAt: 2024-03-08 16:17:15 -0500 (Fri, 08 Mar 2024) EndedAt: 2024-03-08 16:20:10 -0500 (Fri, 08 Mar 2024) EllapsedTime: 175.7 seconds RetCode: 0 Status: OK CheckDir: SparseArray.Rcheck Warnings: 0