Package: SparseArray Version: 1.2.4 Command: /home/hpages/bbs-3.18-bioc-R41/R/bin/R CMD INSTALL SparseArray StartedAt: 2024-03-08 15:30:23 -0500 (Fri, 08 Mar 2024) EndedAt: 2024-03-08 15:30:49 -0500 (Fri, 08 Mar 2024) EllapsedTime: 26.2 seconds RetCode: 0 Status: OK