Package: affxparser Version: 1.75.0 Command: /home/biocbuild/bbs-3.18-bioc/R/bin/Rscript -e "BiocCheck::BiocCheck('affxparser_1.75.0.tar.gz')" StartedAt: 2023-10-24 10:46:02 -0400 (Tue, 24 Oct 2023) EndedAt: 2023-10-24 10:47:52 -0400 (Tue, 24 Oct 2023) EllapsedTime: 109.7 seconds RetCode: None Status: ERROR Warnings: 2