Package: affxparser Version: 1.74.0 Command: /home/hpages/bbs-3.18-bioc-R41/R/bin/R CMD build --keep-empty-dirs --no-resave-data affxparser StartedAt: 2024-03-08 15:41:31 -0500 (Fri, 08 Mar 2024) EndedAt: 2024-03-08 15:41:33 -0500 (Fri, 08 Mar 2024) EllapsedTime: 2.3 seconds RetCode: 0 Status: OK PackageFile: affxparser_1.74.0.tar.gz PackageFileSize: 782.8 KiB