Package: affxparser Version: 1.73.0 Command: /home/hpages/bbs-3.18-bioc/R/bin/R CMD build --keep-empty-dirs --no-resave-data affxparser StartedAt: 2023-06-01 12:35:38 -0700 (Thu, 01 Jun 2023) EndedAt: 2023-06-01 12:35:40 -0700 (Thu, 01 Jun 2023) EllapsedTime: 2.0 seconds RetCode: 0 Status: OK PackageFile: affxparser_1.73.0.tar.gz PackageFileSize: 782.7 KiB