Package: affxparser Version: 1.73.0 Command: /home/hpages/bbs-3.18-bioc/R/bin/R CMD check --install=check:affxparser.install-out.txt --library=/home/hpages/bbs-3.18-bioc-testing/Rlibs --timings affxparser_1.73.0.tar.gz StartedAt: 2023-06-01 12:57:19 -0700 (Thu, 01 Jun 2023) EndedAt: 2023-06-01 12:58:09 -0700 (Thu, 01 Jun 2023) EllapsedTime: 50.0 seconds RetCode: 0 Status: WARNINGS CheckDir: affxparser.Rcheck Warnings: 2