Package: affy Version: 1.80.0 Command: /home/hpages/bbs-3.18-bioc-R41/R/bin/R CMD INSTALL affy StartedAt: 2024-03-08 15:28:56 -0500 (Fri, 08 Mar 2024) EndedAt: 2024-03-08 15:29:06 -0500 (Fri, 08 Mar 2024) EllapsedTime: 10.1 seconds RetCode: 0 Status: OK