Package: affy Version: 1.79.0 Command: /home/hpages/bbs-3.18-bioc/R/bin/R CMD build --keep-empty-dirs --no-resave-data affy StartedAt: 2023-06-01 12:35:38 -0700 (Thu, 01 Jun 2023) EndedAt: 2023-06-01 12:35:55 -0700 (Thu, 01 Jun 2023) EllapsedTime: 17.0 seconds RetCode: 1 Status: ERROR PackageFile: None PackageFileSize: NA