Package: affyio Version: 1.73.0 Command: /home/biocbuild/bbs-3.18-bioc/R/bin/Rscript -e "BiocCheck::BiocCheck('affyio_1.73.0.tar.gz')" StartedAt: 2023-10-24 10:46:02 -0400 (Tue, 24 Oct 2023) EndedAt: 2023-10-24 10:46:20 -0400 (Tue, 24 Oct 2023) EllapsedTime: 17.8 seconds RetCode: None Status: ERROR Warnings: 1