Package: affyio Version: 1.72.0 Command: /home/hpages/bbs-3.18-bioc-R41/R/bin/R CMD build --keep-empty-dirs --no-resave-data affyio StartedAt: 2024-03-08 15:41:31 -0500 (Fri, 08 Mar 2024) EndedAt: 2024-03-08 15:41:32 -0500 (Fri, 08 Mar 2024) EllapsedTime: 1.0 seconds RetCode: 0 Status: OK PackageFile: affyio_1.72.0.tar.gz PackageFileSize: 107.8 KiB