############################################################################## ############################################################################## ### ### Running command: ### ### /home/biocbuild/bbs-3.18-bioc/R/bin/Rscript -e "BiocCheck::BiocCheck('beachmat_2.17.17.tar.gz')" ### ############################################################################## ############################################################################## ─ BiocCheckVersion: 1.39.0 ─ BiocVersion: 3.18 ─ Package: beachmat ─ PackageVersion: 2.17.17 ─ sourceDir: /tmp/RtmpOiAJWm/file38969e6dd9fded/beachmat ─ installDir: /tmp/RtmpOiAJWm/file38969ee0a7516 ─ BiocCheckDir: /home/biocbuild/bbs-3.18-bioc-testing/meat/beachmat.BiocCheck ─ platform: unix ─ isTarBall: TRUE * Installing package... * Checking for deprecated package usage... * Checking for remote package usage... * Checking for 'LazyData: true' usage... * Checking version number... * Checking for version number mismatch... * Checking version number validity... * Checking R version dependency... * Checking package size... * Checking individual file sizes... * Checking biocViews... * Checking that biocViews are present... * Checking package type based on biocViews... Software * Checking for non-trivial biocViews... * Checking that biocViews come from the same category... * Checking biocViews validity... * Checking for recommended biocViews... * NOTE: Consider adding these automatically suggested biocViews: TimeCourse Search 'biocViews' at https://contributions.bioconductor.org * Checking build system compatibility... * Checking for blank lines in DESCRIPTION... * Checking if DESCRIPTION is well formatted... * Checking for proper Description: field... * Checking for whitespace in DESCRIPTION field names... * Checking that Package field matches directory/tarball name... * Checking for Version field... * Checking for valid maintainer... * NOTE: Consider adding the maintainer's ORCID iD in 'Authors@R' with 'comment=c(ORCID="...")' * Checking License: for restrictive use... * Checking for recommeded fields in DESCRIPTION... * Checking for pinned package versions... * Checking DESCRIPTION/NAMESPACE consistency... * Checking .Rbuildignore... * Checking for stray BiocCheck output folders... * Checking vignette directory... * Checking package installation calls in R code... * Checking for library/require of beachmat... * Checking coding practice... * WARNING: Avoid class membership checks with class() / is() and == / !=; Use is(x, 'class') for S4 classes * Checking parsed R code in R directory, examples, vignettes... Found @ in man/checkMemoryCache.Rd * NOTE: Use accessors; don't access S4 class slots via '@' in examples/vignettes. * Checking function lengths... * NOTE: The recommended function length is 50 lines or less. There is 1 function greater than 50 lines. * Checking man page documentation... * Checking package NEWS... * Checking unit tests... * Checking skip_on_bioc() in tests... * Checking formatting of DESCRIPTION, NAMESPACE, man pages, R source, and vignette source... * NOTE: Consider shorter lines; 237 lines (14%) are > 80 characters long. * NOTE: Consider multiples of 4 spaces for line indents; 23 lines (1%) are not. See https://contributions.bioconductor.org/r-code.html See styler package: https://cran.r-project.org/package=styler as described in the BiocCheck vignette. * Checking if package already exists in CRAN... * Checking for bioc-devel mailing list subscription... * NOTE: Cannot determine whether maintainer is subscribed to the Bioc-Devel mailing list (requires admin credentials). Subscribe here: https://stat.ethz.ch/mailman/listinfo/bioc-devel * Checking for support site registration... Maintainer is registered at support site. Package name is in support site watched tags. ─ BiocCheck results ── 0 ERRORS | 1 WARNINGS | 7 NOTES See the beachmat.BiocCheck folder and run browseVignettes(package = 'BiocCheck') for details.