Package: beachmat Version: 2.17.17 Command: /home/biocbuild/bbs-3.18-bioc/R/bin/Rscript -e "BiocCheck::BiocCheck('beachmat_2.17.17.tar.gz')" StartedAt: 2023-10-24 10:46:02 -0400 (Tue, 24 Oct 2023) EndedAt: 2023-10-24 10:51:45 -0400 (Tue, 24 Oct 2023) EllapsedTime: 343.0 seconds RetCode: None Status: WARNINGS Warnings: 1