Package: beachmat Version: 2.18.1 Command: /home/hpages/bbs-3.18-bioc-R41/R/bin/R CMD build --keep-empty-dirs --no-resave-data beachmat StartedAt: 2024-03-08 15:41:31 -0500 (Fri, 08 Mar 2024) EndedAt: 2024-03-08 15:47:58 -0500 (Fri, 08 Mar 2024) EllapsedTime: 386.5 seconds RetCode: 1 Status: ERROR PackageFile: None PackageFileSize: NA