Package: beachmat Version: 2.18.1 Command: /home/hpages/bbs-3.18-bioc-R41/R/bin/R CMD INSTALL beachmat StartedAt: 2024-03-08 15:31:18 -0500 (Fri, 08 Mar 2024) EndedAt: 2024-03-08 15:36:48 -0500 (Fri, 08 Mar 2024) EllapsedTime: 330.2 seconds RetCode: 0 Status: OK