Package: beachmat Version: 2.17.5 Command: /home/hpages/bbs-3.18-bioc/R/bin/R CMD build --keep-empty-dirs --no-resave-data beachmat StartedAt: 2023-06-01 12:35:42 -0700 (Thu, 01 Jun 2023) EndedAt: 2023-06-01 12:38:57 -0700 (Thu, 01 Jun 2023) EllapsedTime: 195.1 seconds RetCode: 0 Status: OK PackageFile: beachmat_2.17.5.tar.gz PackageFileSize: 464.5 KiB