############################################################################## ############################################################################## ### ### Running command: ### ### /home/hpages/bbs-3.18-bioc/R/bin/R CMD build --keep-empty-dirs --no-resave-data csaw ### ############################################################################## ############################################################################## * checking for file ‘csaw/DESCRIPTION’ ... OK * preparing ‘csaw’: * checking DESCRIPTION meta-information ... OK * cleaning src * installing the package to build vignettes ----------------------------------- ERROR: dependency ‘metapod’ is not available for package ‘csaw’ * removing ‘/tmp/Rtmpk4rvlK/Rinst639e42d43f75/csaw’ ----------------------------------- ERROR: package installation failed