############################################################################## ############################################################################## ### ### Running command: ### ### /home/hpages/bbs-3.18-bioc/R/bin/R CMD INSTALL csaw ### ############################################################################## ############################################################################## * installing to library ‘/home/hpages/bbs-3.18-bioc-testing/Rlibs’ ERROR: dependency ‘metapod’ is not available for package ‘csaw’ * removing ‘/home/hpages/bbs-3.18-bioc-testing/Rlibs/csaw’