Package: csaw Version: 1.35.0 Command: /home/hpages/bbs-3.18-bioc/R/bin/R CMD INSTALL csaw StartedAt: 2023-06-01 12:35:28 -0700 (Thu, 01 Jun 2023) EndedAt: 2023-06-01 12:35:29 -0700 (Thu, 01 Jun 2023) EllapsedTime: 0.3 seconds RetCode: 1 Status: ERROR