Package: edgeR Version: 4.0.16 Command: /home/hpages/bbs-3.18-bioc-R41/R/bin/R CMD check --install=check:edgeR.install-out.txt --library=/home/hpages/bbs-3.18-bioc-R41/R/site-library --timings edgeR_4.0.16.tar.gz StartedAt: 2024-03-08 16:04:41 -0500 (Fri, 08 Mar 2024) EndedAt: 2024-03-08 16:06:13 -0500 (Fri, 08 Mar 2024) EllapsedTime: 92.0 seconds RetCode: 0 Status: OK CheckDir: edgeR.Rcheck Warnings: 0