Package: eds Version: 1.4.0 Command: /home/hpages/bbs-3.18-bioc-R41/R/bin/R CMD build --keep-empty-dirs --no-resave-data eds StartedAt: 2024-03-08 15:43:57 -0500 (Fri, 08 Mar 2024) EndedAt: 2024-03-08 15:44:16 -0500 (Fri, 08 Mar 2024) EllapsedTime: 18.9 seconds RetCode: 0 Status: OK PackageFile: eds_1.4.0.tar.gz PackageFileSize: 217.3 KiB