Package: ensembldb Version: 2.26.0 Command: /home/hpages/bbs-3.18-bioc-R41/R/bin/R CMD INSTALL ensembldb StartedAt: 2024-03-08 15:34:00 -0500 (Fri, 08 Mar 2024) EndedAt: 2024-03-08 15:34:44 -0500 (Fri, 08 Mar 2024) EllapsedTime: 44.1 seconds RetCode: 0 Status: OK