Package: fishpond Version: 2.7.4 Command: /home/biocbuild/bbs-3.18-bioc/R/bin/Rscript -e "BiocCheck::BiocCheck('fishpond_2.7.4.tar.gz')" StartedAt: 2023-10-24 10:46:32 -0400 (Tue, 24 Oct 2023) EndedAt: 2023-10-24 10:47:25 -0400 (Tue, 24 Oct 2023) EllapsedTime: 52.5 seconds RetCode: None Status: ERROR Warnings: 0