Package: fishpond Version: 2.8.0 Command: /home/hpages/bbs-3.18-bioc-R41/R/bin/R CMD build --keep-empty-dirs --no-resave-data fishpond StartedAt: 2024-03-08 15:44:17 -0500 (Fri, 08 Mar 2024) EndedAt: 2024-03-08 15:49:46 -0500 (Fri, 08 Mar 2024) EllapsedTime: 329.7 seconds RetCode: 0 Status: OK PackageFile: fishpond_2.8.0.tar.gz PackageFileSize: 3.373 MiB