Package: fishpond Version: 2.8.0 Command: /home/hpages/bbs-3.18-bioc-R41/R/bin/R CMD check --install=check:fishpond.install-out.txt --library=/home/hpages/bbs-3.18-bioc-R41/R/site-library --timings fishpond_2.8.0.tar.gz StartedAt: 2024-03-08 16:05:45 -0500 (Fri, 08 Mar 2024) EndedAt: 2024-03-08 16:14:39 -0500 (Fri, 08 Mar 2024) EllapsedTime: 533.8 seconds RetCode: 0 Status: OK CheckDir: fishpond.Rcheck Warnings: 0