Package: fishpond Version: 2.7.0 Command: /home/hpages/bbs-3.18-bioc/R/bin/R CMD build --keep-empty-dirs --no-resave-data fishpond StartedAt: 2023-06-01 12:40:31 -0700 (Thu, 01 Jun 2023) EndedAt: 2023-06-01 12:45:18 -0700 (Thu, 01 Jun 2023) EllapsedTime: 287.1 seconds RetCode: 0 Status: OK PackageFile: fishpond_2.7.0.tar.gz PackageFileSize: 1.624 MiB