Package: fishpond Version: 2.7.0 Command: /home/hpages/bbs-3.18-bioc/R/bin/R CMD INSTALL fishpond StartedAt: 2023-06-01 12:25:48 -0700 (Thu, 01 Jun 2023) EndedAt: 2023-06-01 12:26:15 -0700 (Thu, 01 Jun 2023) EllapsedTime: 27.0 seconds RetCode: 0 Status: OK