Package: gdsfmt Version: 1.38.0 Command: /home/hpages/bbs-3.18-bioc-R41/R/bin/R CMD build --keep-empty-dirs --no-resave-data gdsfmt StartedAt: 2024-03-08 15:44:32 -0500 (Fri, 08 Mar 2024) EndedAt: 2024-03-08 15:48:52 -0500 (Fri, 08 Mar 2024) EllapsedTime: 260.5 seconds RetCode: 0 Status: OK PackageFile: gdsfmt_1.38.0.tar.gz PackageFileSize: 2.796 MiB