Package: gdsfmt Version: 1.38.0 Command: /home/hpages/bbs-3.18-bioc-R41/R/bin/R CMD check --install=check:gdsfmt.install-out.txt --library=/home/hpages/bbs-3.18-bioc-R41/R/site-library --timings gdsfmt_1.38.0.tar.gz StartedAt: 2024-03-08 16:06:13 -0500 (Fri, 08 Mar 2024) EndedAt: 2024-03-08 16:08:38 -0500 (Fri, 08 Mar 2024) EllapsedTime: 145.4 seconds RetCode: 0 Status: OK CheckDir: gdsfmt.Rcheck Warnings: 0