Package: gdsfmt Version: 1.37.0 Command: /home/hpages/bbs-3.18-bioc/R/bin/R CMD build --keep-empty-dirs --no-resave-data gdsfmt StartedAt: 2023-06-01 12:41:08 -0700 (Thu, 01 Jun 2023) EndedAt: 2023-06-01 12:46:52 -0700 (Thu, 01 Jun 2023) EllapsedTime: 344.1 seconds RetCode: 0 Status: OK PackageFile: gdsfmt_1.37.0.tar.gz PackageFileSize: 2.796 MiB