Package: illuminaio Version: 0.44.0 Command: /home/hpages/bbs-3.18-bioc-R41/R/bin/R CMD build --keep-empty-dirs --no-resave-data illuminaio StartedAt: 2024-03-08 15:46:12 -0500 (Fri, 08 Mar 2024) EndedAt: 2024-03-08 15:46:26 -0500 (Fri, 08 Mar 2024) EllapsedTime: 13.9 seconds RetCode: 0 Status: OK PackageFile: illuminaio_0.44.0.tar.gz PackageFileSize: 330.4 KiB