Package: illuminaio Version: 0.43.0 Command: /home/hpages/bbs-3.18-bioc/R/bin/R CMD build --keep-empty-dirs --no-resave-data illuminaio StartedAt: 2023-06-01 12:43:05 -0700 (Thu, 01 Jun 2023) EndedAt: 2023-06-01 12:43:20 -0700 (Thu, 01 Jun 2023) EllapsedTime: 15.0 seconds RetCode: 0 Status: OK PackageFile: illuminaio_0.43.0.tar.gz PackageFileSize: 364.5 KiB