Package: impute Version: 1.77.0 Command: /home/biocbuild/bbs-3.18-bioc/R/bin/Rscript -e "BiocCheck::BiocCheck('impute_1.77.0.tar.gz')" StartedAt: 2023-10-24 10:47:17 -0400 (Tue, 24 Oct 2023) EndedAt: 2023-10-24 10:47:27 -0400 (Tue, 24 Oct 2023) EllapsedTime: 10.4 seconds RetCode: None Status: ERROR Warnings: 2