Package: impute Version: 1.76.0 Command: /home/hpages/bbs-3.18-bioc-R41/R/bin/R CMD build --keep-empty-dirs --no-resave-data impute StartedAt: 2024-03-08 15:46:16 -0500 (Fri, 08 Mar 2024) EndedAt: 2024-03-08 15:46:17 -0500 (Fri, 08 Mar 2024) EllapsedTime: 1.0 seconds RetCode: 0 Status: OK PackageFile: impute_1.76.0.tar.gz PackageFileSize: 626.6 KiB