Package: impute Version: 1.76.0 Command: /home/hpages/bbs-3.18-bioc-R41/R/bin/R CMD check --install=check:impute.install-out.txt --library=/home/hpages/bbs-3.18-bioc-R41/R/site-library --timings impute_1.76.0.tar.gz StartedAt: 2024-03-08 16:10:17 -0500 (Fri, 08 Mar 2024) EndedAt: 2024-03-08 16:10:33 -0500 (Fri, 08 Mar 2024) EllapsedTime: 15.9 seconds RetCode: 0 Status: OK CheckDir: impute.Rcheck Warnings: 0