Package: impute Version: 1.75.1 Command: /home/hpages/bbs-3.18-bioc/R/bin/R CMD build --keep-empty-dirs --no-resave-data impute StartedAt: 2023-06-01 12:43:20 -0700 (Thu, 01 Jun 2023) EndedAt: 2023-06-01 12:43:21 -0700 (Thu, 01 Jun 2023) EllapsedTime: 1.0 seconds RetCode: 0 Status: OK PackageFile: impute_1.75.1.tar.gz PackageFileSize: 626.5 KiB