Package: impute Version: 1.75.1 Command: /home/hpages/bbs-3.18-bioc/R/bin/R CMD INSTALL impute StartedAt: 2023-06-01 12:18:53 -0700 (Thu, 01 Jun 2023) EndedAt: 2023-06-01 12:18:56 -0700 (Thu, 01 Jun 2023) EllapsedTime: 3.0 seconds RetCode: 0 Status: OK