Package: microRNA Version: 1.59.0 Command: /home/hpages/bbs-3.18-bioc/R/bin/R CMD check --install=check:microRNA.install-out.txt --library=/home/hpages/bbs-3.18-bioc-testing/Rlibs --timings microRNA_1.59.0.tar.gz StartedAt: 2023-06-01 13:17:45 -0700 (Thu, 01 Jun 2023) EndedAt: 2023-06-01 13:19:20 -0700 (Thu, 01 Jun 2023) EllapsedTime: 95.1 seconds RetCode: 0 Status: OK CheckDir: microRNA.Rcheck Warnings: 0