Package: mzR Version: 2.36.0 Command: /home/hpages/bbs-3.18-bioc-R41/R/bin/R CMD build --keep-empty-dirs --no-resave-data mzR StartedAt: 2024-03-08 15:47:23 -0500 (Fri, 08 Mar 2024) EndedAt: 2024-03-08 15:56:56 -0500 (Fri, 08 Mar 2024) EllapsedTime: 573.5 seconds RetCode: 0 Status: OK PackageFile: mzR_2.36.0.tar.gz PackageFileSize: 7.319 MiB