Package: mzR Version: 2.36.0 Command: /home/hpages/bbs-3.18-bioc-R41/R/bin/R CMD check --install=check:mzR.install-out.txt --library=/home/hpages/bbs-3.18-bioc-R41/R/site-library --timings mzR_2.36.0.tar.gz StartedAt: 2024-03-08 16:12:17 -0500 (Fri, 08 Mar 2024) EndedAt: 2024-03-08 16:13:48 -0500 (Fri, 08 Mar 2024) EllapsedTime: 91.3 seconds RetCode: 0 Status: WARNINGS CheckDir: mzR.Rcheck Warnings: 1