Package: mzR Version: 2.36.0 Command: /home/hpages/bbs-3.18-bioc-R41/R/bin/R CMD INSTALL mzR StartedAt: 2024-03-08 15:32:01 -0500 (Fri, 08 Mar 2024) EndedAt: 2024-03-08 15:40:41 -0500 (Fri, 08 Mar 2024) EllapsedTime: 520.0 seconds RetCode: 0 Status: OK