Package: mzR Version: 2.35.1 Command: /home/hpages/bbs-3.18-bioc/R/bin/R CMD build --keep-empty-dirs --no-resave-data mzR StartedAt: 2023-06-01 12:44:28 -0700 (Thu, 01 Jun 2023) EndedAt: 2023-06-01 12:57:12 -0700 (Thu, 01 Jun 2023) EllapsedTime: 764.2 seconds RetCode: 0 Status: OK PackageFile: mzR_2.35.1.tar.gz PackageFileSize: 7.309 MiB