Package: mzR Version: 2.35.1 Command: /home/hpages/bbs-3.18-bioc/R/bin/R CMD check --install=check:mzR.install-out.txt --library=/home/hpages/bbs-3.18-bioc-testing/Rlibs --timings mzR_2.35.1.tar.gz StartedAt: 2023-06-01 13:18:27 -0700 (Thu, 01 Jun 2023) EndedAt: 2023-06-01 13:20:23 -0700 (Thu, 01 Jun 2023) EllapsedTime: 116.1 seconds RetCode: 0 Status: WARNINGS CheckDir: mzR.Rcheck Warnings: 2